BEGIN:VCALENDAR
VERSION:2.0
PRODID:spatie/icalendar-generator
DESCRIPTION:Events from Wolf Canyon Elementary
X-WR-CALDESC:Events from Wolf Canyon Elementary
REFRESH-INTERVAL;VALUE=DURATION:PT1440M
X-PUBLISHED-TTL:PT1440M
BEGIN:VTIMEZONE
TZID:America/Los_Angeles
BEGIN:STANDARD
DTSTART:20251102T020000Z
TZOFFSETFROM:-0700
TZOFFSETTO:-0800
END:STANDARD
BEGIN:DAYLIGHT
DTSTART:20260308T020000Z
TZOFFSETFROM:-0800
TZOFFSETTO:-0700
END:DAYLIGHT
END:VTIMEZONE
BEGIN:VTIMEZONE
TZID:UTC
BEGIN:STANDARD
DTSTART:20250727T151811Z
TZOFFSETFROM:+0000
TZOFFSETTO:+0000
END:STANDARD
END:VTIMEZONE
BEGIN:VEVENT
UID:866-804
DTSTAMP:20260423T151811Z
SUMMARY:6th Grade Homework
LOCATION:
ORGANIZER;CN=mrdanly:MAILTO:dtly01@gmail.com
DTSTART;TZID=America/Los_Angeles;VALUE=DATE:20260408
DTEND;TZID=America/Los_Angeles;VALUE=DATE:20260409
X-ALT-DESC;FMTTYPE=TEXT/HTML:Read for 30 minutes (take notes) Complete IXL.
 com Lesson: Interpret Histograms Play iReady \"My Path\" for 15 minutes
CATEGORIES:Homework
URL;VALUE=URI:https://www.wolfcanyononline.com/mc-events/6th-grade-homework
 -678/
METHOD:PUBLISH
END:VEVENT
END:VCALENDAR